BEGIN:VCALENDAR
VERSION:2.0
PRODID:-//wp-events-plugin.com//7.2.3.1//EN
TZID:America/New_York
X-WR-TIMEZONE:America/New_York
BEGIN:VEVENT
UID:283@recyclingworksma.com
DTSTART;TZID=America/New_York:20190417T100000
DTEND;TZID=America/New_York:20190417T120000
DTSTAMP:20190327T195323Z
URL:https://recyclingworksma.com/events/massdep-organics-subcommittee-meet
 ing-5/
SUMMARY:MassDEP Organics Subcommittee Meeting
DESCRIPTION:The next meeting of the Massachusetts Department of Environment
 al Protection’s (MassDEP’s) Organics Subcommittee will be held from
  10:00 – 12:00 pm on Wednesday\, April 17\, 2019. The meeting will be
  held at MassDEP’s Boston Office\, located at One Winter Street in Bosto
 n. This meeting will continue the presentation and discussion from the Mar
 ch 19th meeting on food waste reduction and diversion from small business 
 generators and residents. The meeting will then shift to the development o
 f an updated Organics Action Plan focused on continuing to reduce and dive
 rt food waste from disposal in the coming decade.The current Organics Acti
 on Plan is available here. As discussed at the March 19th meeting\, this w
 ill potentially include lowering the threshold for the commercial organics
  ban.\n\nThe meeting will also be made available via webinar. Click here
  to register.\n
CATEGORIES:MassDEP Organics Subcommittee Meeting,Meeting
LOCATION:MassDEP Headquarters\, One Winter Street\, Boston\, MA\, 02108\, U
 nited States
GEO:42.3557098;-71.0610474
X-APPLE-STRUCTURED-LOCATION;VALUE=URI;X-ADDRESS=One Winter Street\, Boston\
 , MA\, 02108\, United States;X-APPLE-RADIUS=100;X-TITLE=MassDEP Headquarte
 rs:geo:42.3557098,-71.0610474
END:VEVENT
BEGIN:VTIMEZONE
TZID:America/New_York
X-LIC-LOCATION:America/New_York
BEGIN:DAYLIGHT
DTSTART:20190310T030000
TZOFFSETFROM:-0500
TZOFFSETTO:-0400
TZNAME:EDT
END:DAYLIGHT
END:VTIMEZONE
END:VCALENDAR